BEGIN:VCALENDAR
VERSION:2.0
PRODID:-//wp-events-plugin.com//5.99912//EN
TZID:Europe/Berlin
X-WR-TIMEZONE:Europe/Berlin
BEGIN:VEVENT
UID:8-10978@familien.albverein.net
DTSTART;TZID=Europe/Berlin:20261004T090000
DTEND;TZID=Europe/Berlin:20261004T120000
DTSTAMP:20250930T093502Z
URL:https://familien.albverein.net/events/familienvertreterversammlung-fvv
 -herbst-2026-online/
SUMMARY:Familienvertreterversammlung (FVV) Herbst 2026 Online
DESCRIPTION:\n\n\n\n\n\n\nWir laden alle Gaufamilienwarte\, Familiengruppen
 leiter\, Veranstaltungsleiter\, Gau- und Ortsgruppenvorsitzende\, Interess
 ierte sowie den Hauptvorstand zu unserer Familienvertreterversammlung\, ku
 rz FVV\, herzlich ein!\n\nBei der FVV werden alle wichtigen Fragen zum The
 ma Familienarbeit im Schwäbischen Albverein besprochen. Ehren- und haupta
 mtliche Mitarbeiter berichten von ihrer Arbeit und haben ein offenes Ohr f
 ür Eure Fragen.\n\nZudem habt Ihr hier die Möglichkeit\, mitzubestimmen 
 und so die Zukunft unseres Vereins zu gestalten. Also nutzt Eure Chance un
 d bewegt etwas in unserer Familienarbeit und somit im ganzen Schwäbischen
  Albverein!\n\nWir freuen uns über alte Hasen und auch über neue Gesicht
 er!\n\n\n\nVeranstaltungsdetails\n\n\n\n\n\n\n\n09:00 – ca. 12:00 Uhr\n\
 n\n\n\n\n\n\n\n\n\n\nDie Veranstaltung findet ohne Kinder statt\n\n\n\n\n\
 n\n\n\n\n\n\n\n\n\n\n\n\n\n\n\n\n\n\n\n\n\n\n\n• Programm\n• Fachliche
 r Input\n\n\n\n\n\n\n\nKostenfrei für Mitglieder und Nichtmitglieder\n\n\
 n\nOnline per Zoom-Konferenz\n\n\n\n\n\n\n\n\n\n\nLeitung und Anmeldung\n\
 n\n\n\n\n\n\nNicole Mündler für den gesamten Familienbeirat\n\n\n\nAnmel
 dung bitte per E-Mail an familien@schwaebischer-albverein.de\n\n\n\nAnmeld
 eschluss\n\n\n\n24.09.2026\n\n\n\nVeranstalter\n\n\n\nFachbereich Familie
CATEGORIES:Familien
END:VEVENT
BEGIN:VTIMEZONE
TZID:Europe/Berlin
X-LIC-LOCATION:Europe/Berlin
BEGIN:DAYLIGHT
DTSTART:20260329T030000
TZOFFSETFROM:+0100
TZOFFSETTO:+0200
TZNAME:CEST
END:DAYLIGHT
END:VTIMEZONE
END:VCALENDAR