BEGIN:VCALENDAR
VERSION:2.0
PRODID:-//wp-events-plugin.com//5.99912//EN
TZID:Europe/Berlin
X-WR-TIMEZONE:Europe/Berlin
BEGIN:VEVENT
UID:8-11370@familien.albverein.net
DTSTART;TZID=Europe/Berlin:20260502T140000
DTEND;TZID=Europe/Berlin:20260502T170000
DTSTAMP:20260421T070843Z
URL:https://familien.albverein.net/events/bock-auf-stock-in-obergroeningen
 /
SUMMARY:Bock auf Stock - in Obergröningen
DESCRIPTION:\n\n\n\n\n\n\nGehört ihr auch zu den leidenschaftlichen Stöck
 esammlern?\nDann kommt mit uns auf Streifzug durch den Wald und sammelt St
 öcke in allen Formen und Größen zum Spielen und Bauen. Die schönsten F
 undstücke verwandeln wir in unserer Frischluftwerkstatt in einen Maibaum 
 für zuhause.\nUnd klar: leckeres Stockbrot vom Lagerfeuer gibt’s natür
 lich auch!\n\n\n\n\nVeranstaltungsdetails\n\n\n\n\n\n\n\n14:00 - 17:00 Uhr
 \n\n\n\nca. 2\,5 km\n\n\n\n\n\n\n\nFür Familien mit Kindern ab 3 Jahren\n
 \n\n\nWeg für Kinderwagen geeignet\n\n\n\n\n\n\n\nLagerfeuer\n\n\n\n\n\n\
 n\nWetterfeste Kleidung und Schuhe\, Trinken\, Grillgut\, Schere\, Taschen
 -messer und bunte Bänder\, wer hat\n\n\n\n\n\n\n\n\nNicht-Mitglieder: 3 
 € pro Person\; Mitglieder kostenfrei\n\n\n\n\nSpielplatz am Ende der Ba
 dstraße in Obergröningen\n\n\n\n\n\n\n\n\n\n\nLeitung und Anmeldung\n\n\
 n\n\n\n\n\nMichaela Spielmann\, Pädagogische Mitarbeiterin\nTelefon: 0711
  - 22585-54\nmspielmann@schwaebischer-albverein.de\n\n\n\n\n\n\nAnmeldesch
 luss\n\n\n\n29.04.2026\n\n\n\nVeranstalter\n\n\n\nOG Eschach &amp\; Unterg
 röningen
CATEGORIES:Familien
END:VEVENT
BEGIN:VTIMEZONE
TZID:Europe/Berlin
X-LIC-LOCATION:Europe/Berlin
BEGIN:DAYLIGHT
DTSTART:20260329T030000
TZOFFSETFROM:+0100
TZOFFSETTO:+0200
TZNAME:CEST
END:DAYLIGHT
END:VTIMEZONE
END:VCALENDAR