BEGIN:VCALENDAR
VERSION:2.0
PRODID:-//wp-events-plugin.com//5.99912//EN
TZID:Europe/Berlin
X-WR-TIMEZONE:Europe/Berlin
BEGIN:VEVENT
UID:8-11372@familien.albverein.net
DTSTART;TZID=Europe/Berlin:20260503T140000
DTEND;TZID=Europe/Berlin:20260503T173000
DTSTAMP:20260421T092023Z
URL:https://familien.albverein.net/events/bluetenzauber-in-essingen-forst/
SUMMARY:Blütenzauber - in Essingen-Forst
DESCRIPTION:\n\n\n\n\n\n\nRund um den Kolbenberg gehen wir auf Entdeckungsr
 eise zu den Frühlingsblumen. Spielerisch finden wir heraus\, was alles w
 ächst und welche Blüten essbar sind. \n\nMit unseren bunten Schätzen we
 rden wir kreativ und bereiten einfache Leckereien zu\, die wir bei unserem
  Wiesenpicknick genießen. \n\nPackt eure Decke ein und freut euch auf ein
 en zauberhaften Nachmittag!\n\n\n\nVeranstaltungsdetails\n\n\n\n\n\n\n\n14
 :00 - 17:30 Uhr\n\n\n\n3\,5 km\n\n\n\n\n\n\n\nWir freuen uns auf Familien 
 mit Kindern und Großeltern mit ihren Enkeln ab 4 Jahren!\n\n\n\n\n\n\n\n
 \n\n\n\n\n\n\n\n\n\n\n\n\n\nWetterfeste Kleidung und Schuhe\, Getränk\, P
 icknickdecke\, Sammelbehälter\, Schneidebrett und -messer\, Teller\, Best
 eck inkl. Teelöffel\n\n\n\n\n\n\n\n\nKostenbeitrag pro Person: 0 € Mit
 glieder\, 3 € Nicht-Mitglieder\n\n\n\n\nTreffpunkt am Parkplatz in der K
 olbenbergstraße in Essingen-Forst\nLink zu Google Maps\n\n\n\n\n\n\n\n\n\
 n\nLeitung und Anmeldung\n\n\n\n\n\n\n\nMichaela Spielmann\, Pädagogische
  Mitarbeiterin\nTelefon: 0711 - 22585-54\nmspielmann@schwaebischer-albvere
 in.de\n\n\n\n\n\n\nAnmeldeschluss\n\n\n\n30.04.2026\n\n\n\nVeranstalter\n\
 n\n\nOG Mögglingen
CATEGORIES:Familien
END:VEVENT
BEGIN:VTIMEZONE
TZID:Europe/Berlin
X-LIC-LOCATION:Europe/Berlin
BEGIN:DAYLIGHT
DTSTART:20260329T030000
TZOFFSETFROM:+0100
TZOFFSETTO:+0200
TZNAME:CEST
END:DAYLIGHT
END:VTIMEZONE
END:VCALENDAR