BEGIN:VCALENDAR
VERSION:2.0
PRODID:-//wp-events-plugin.com//5.99912//EN
TZID:Europe/Berlin
X-WR-TIMEZONE:Europe/Berlin
BEGIN:VEVENT
UID:8-11369@familien.albverein.net
DTSTART;TZID=Europe/Berlin:20260425T140000
DTEND;TZID=Europe/Berlin:20260425T170000
DTSTAMP:20260421T065957Z
URL:https://familien.albverein.net/events/bienenwelt-fuer-kinder-erklaert-
 in-jesingen/
SUMMARY:Bienenwelt für Kinder erklärt in Jesingen
DESCRIPTION:\n\n\n\n\n\n\nHeute schenken wir den Bienen vor unserer Haustü
 r unsere Aufmerksamkeit. Welche Bienenarten sind bei uns heimisch? Und was
  machen die eigentlich den lieben langen Tag so? \n\nMit Hermann\, unserem
  erfahrenen Hobbyimker\, spazieren wir zu seinen Bienenstöcken und lassen
  uns von seinen Aufgaben rund um die Pflege der Bienen erzählen. Er zeigt
  uns auch\, was es alles braucht\, damit wir schlussendlich den leckeren H
 onig geniessen dürfen. \n\nZum Abschluss darf jedes Kind eine kleine Erin
 nerung an diesen Tag basteln.\n\n\n\nVeranstaltungsdetails\n\n\n\n\n\n\n\n
 14:00 - 17:00 Uhr\n\n\n\nca. 25 min Spaziergang\, anschließend Führung u
 nd Bastelangebot\n\n\n\n\n\n\n\n\n\n\n\nWeg ist kinderwagentauglich\n\n\n\
 n\n\n\n\n\n\n\n\n\n\n\n\nMitbringen: n.B. Getränk u. Snack für unterwegs
 \, wetterangepasste Kleidung und gutes Schuhwerk\n\n\n\n\n\n\n\nVeranstalt
 ung kostenfrei\, Spendenkasse steht bereit\n\n\n\n\nTreffpunkt: Rathaus Je
 singen\, Parken a.d. Mühle / Friedhof\n\n\n\n\n\n\n\n\n\n\n\nLeitung und
  Anmeldung\n\n\n\n\n\n\n\n\nMonika Ernst\; Tel: 07021 / 58 635\; Mail: m
 oni_ernst@web.de\n\n\n\n\n\n\n\nAnmeldeschluss\n\n\n\n24.04.2026\n\n\n\nVe
 ranstalter\n\n\n\nOG Jesingen
CATEGORIES:Familien
END:VEVENT
BEGIN:VTIMEZONE
TZID:Europe/Berlin
X-LIC-LOCATION:Europe/Berlin
BEGIN:DAYLIGHT
DTSTART:20260329T030000
TZOFFSETFROM:+0100
TZOFFSETTO:+0200
TZNAME:CEST
END:DAYLIGHT
END:VTIMEZONE
END:VCALENDAR