BEGIN:VCALENDAR
VERSION:2.0
PRODID:-//wp-events-plugin.com//5.99912//EN
TZID:Europe/Berlin
X-WR-TIMEZONE:Europe/Berlin
BEGIN:VEVENT
UID:8-11371@familien.albverein.net
DTSTART;TZID=Europe/Berlin:20260509T140000
DTEND;TZID=Europe/Berlin:20260509T170000
DTSTAMP:20260421T074522Z
URL:https://familien.albverein.net/events/besuch-bei-den-fleissigen-bienen
 -in-stetten-a-d-fildern/
SUMMARY:Besuch bei den fleißigen Bienen - in Stetten a.d. Fildern
DESCRIPTION:\n\n\n\n\n\n\nWer möchte mit uns die Bienen besuchen und Spann
 endes über sie erfahren?\nUnsere Familienwanderung führt uns über Felde
 r und am Waldesrand entlang zu einem Bienenvolk. Eine Imkerin erklärt uns
  alles Wissenswerte über Bienen und beantwortet unsere Fragen.\n\nIm Ansc
 hluss gehen wir gemeinsam zurück zum Ausgangspunkt und lassen den Nachmit
 tag beim Grillen ausklingen.\n\n\n\nVeranstaltungsdetails\n\n\n\n\n\n\n\n1
 4:00 - 17:00 Uhr\n\n\n\nca. 4 km\n\n\n\n\n\n\n\n\n\n\n\nfür Kinderwagen g
 eeignet\n\n\n\n\n\n\n\nLagerfeuer\n\n\n\n\n\n\n\nMitbringen: wettergerecht
 e Kleidung u. Schuhe\, Sonnenschutz\, Getränke und Grillgut\, gute Laune\
 n\n\n\n\n\n\n\nKostenfreie Veranstaltung\n\n\n\nTreffpunkt: 14:00Uhr an de
 r Grillwiese in Stetten a.d.Fildern (Gräbleswiesenweg) gegenüber Tennisp
 latz\n\n\n\n\n\n\n\n\n\n\nLeitung und Anmeldung\n\n\n\n\n\n\n\nFamilie Wei
 g\; Mail: familien@savoge.de\; Tel: 0711 / 79 42 080\n\nBitte Namen und An
 zahl der Personen\, Alter der Kinder sowie Kontakt mitteilen!\n\n\n\n\n\n\
 nAnmeldeschluss\n\n\n\n02.05.2026\n\n\n\nVeranstalter\n\n\n\nOG Echterding
 en
CATEGORIES:Familien
END:VEVENT
BEGIN:VTIMEZONE
TZID:Europe/Berlin
X-LIC-LOCATION:Europe/Berlin
BEGIN:DAYLIGHT
DTSTART:20260329T030000
TZOFFSETFROM:+0100
TZOFFSETTO:+0200
TZNAME:CEST
END:DAYLIGHT
END:VTIMEZONE
END:VCALENDAR